BEGIN:VCALENDAR
VERSION:2.0
PRODID:-//Colour Yoga - ECPv6.6.3//NONSGML v1.0//EN
CALSCALE:GREGORIAN
METHOD:PUBLISH
X-WR-CALNAME:Colour Yoga
X-ORIGINAL-URL:https://www.colouryoga.com
X-WR-CALDESC:Events for Colour Yoga
REFRESH-INTERVAL;VALUE=DURATION:PT1H
X-Robots-Tag:noindex
X-PUBLISHED-TTL:PT1H
BEGIN:VTIMEZONE
TZID:Asia/Jakarta
BEGIN:STANDARD
TZOFFSETFROM:+0700
TZOFFSETTO:+0700
TZNAME:WIB
DTSTART:20250101T000000
END:STANDARD
END:VTIMEZONE
BEGIN:VEVENT
DTSTART;TZID=Asia/Jakarta:20250106T101500
DTEND;TZID=Asia/Jakarta:20250106T111500
DTSTAMP:20260422T011027
CREATED:20241218T080030Z
LAST-MODIFIED:20250304T234731Z
UID:8391-1736158500-1736162100@www.colouryoga.com
SUMMARY:Beginner Iyengar Yoga
DESCRIPTION:Embarking on your yoga journey with Iyengar yoga can be a transformative experience. Known for its focus on alignment\, precision\, and the use of props\, Iyengar yoga is accessible to practitioners of all levels\, especially beginners. \nIyengar yoga offers numerous benefits\, including improved posture\, increased flexibility\, and enhanced strength. The emphasis on precise alignment helps prevent injuries and promotes a deeper understanding of body mechanics. The use of props allows individuals of all abilities to experience the poses fully\, making it a great choice for beginners. \nAre you ready to start Iyengar yoga practice? You’ll cover all the essential basics and foundations of yoga. This trials is perfect for those who want to improve strength\, flexibility\, and overall well-being but don’t know where to start. \nBe sure to join this trial. Seats are very limited.
URL:https://www.colouryoga.com/event/beginner-iyengar-yoga/
LOCATION:Colour Yoga studio at Menteng Central\, Jl. HOS Cokroaminoto 78-80\, Menteng Central\, Jakarta\, DKI Jakarta\, 10310\, Indonesia
CATEGORIES:Free Trials
ATTACH;FMTTYPE=image/jpeg:https://d2z7ywq0tfs1af.cloudfront.net/static/m/beginner-iyengar-yoga-rev.jpg
ORGANIZER;CN="Colour Yoga":MAILTO:info@colouryoga.com
END:VEVENT
END:VCALENDAR