BEGIN:VCALENDAR
VERSION:2.0
PRODID:-//Colour Yoga - ECPv6.6.3//NONSGML v1.0//EN
CALSCALE:GREGORIAN
METHOD:PUBLISH
X-WR-CALNAME:Colour Yoga
X-ORIGINAL-URL:https://www.colouryoga.com/id
X-WR-CALDESC:Events for Colour Yoga
REFRESH-INTERVAL;VALUE=DURATION:PT1H
X-Robots-Tag:noindex
X-PUBLISHED-TTL:PT1H
BEGIN:VTIMEZONE
TZID:Asia/Krasnoyarsk
BEGIN:STANDARD
TZOFFSETFROM:+0700
TZOFFSETTO:+0700
TZNAME:+07
DTSTART:20240101T000000
END:STANDARD
END:VTIMEZONE
BEGIN:VEVENT
DTSTART;TZID=Asia/Krasnoyarsk:20241208T163000
DTEND;TZID=Asia/Krasnoyarsk:20241208T173000
DTSTAMP:20260422T022522
CREATED:20241207T093532Z
LAST-MODIFIED:20241208T052948Z
UID:8341-1733675400-1733679000@www.colouryoga.com
SUMMARY:For Better Sleep
DESCRIPTION:Yin Yoga and Singing Bowl. \nLead by Anthea.
URL:https://www.colouryoga.com/id/event/for-better-sleep/
CATEGORIES:Special Class
ATTACH;FMTTYPE=image/jpeg:https://d2z7ywq0tfs1af.cloudfront.net/static/m/special_class_anthea.jpg
END:VEVENT
END:VCALENDAR