BEGIN:VCALENDAR
VERSION:2.0
PRODID:-//Colour Yoga - ECPv6.6.3//NONSGML v1.0//EN
CALSCALE:GREGORIAN
METHOD:PUBLISH
X-WR-CALNAME:Colour Yoga
X-ORIGINAL-URL:https://www.colouryoga.com/id
X-WR-CALDESC:Events for Colour Yoga
REFRESH-INTERVAL;VALUE=DURATION:PT1H
X-Robots-Tag:noindex
X-PUBLISHED-TTL:PT1H
BEGIN:VTIMEZONE
TZID:Asia/Jakarta
BEGIN:STANDARD
TZOFFSETFROM:+0700
TZOFFSETTO:+0700
TZNAME:WIB
DTSTART:20220101T000000
END:STANDARD
END:VTIMEZONE
BEGIN:VEVENT
DTSTART;TZID=Asia/Jakarta:20220601T103000
DTEND;TZID=Asia/Jakarta:20220601T120000
DTSTAMP:20260422T023331
CREATED:20220526T102611Z
LAST-MODIFIED:20220601T034407Z
UID:5783-1654079400-1654084800@www.colouryoga.com
SUMMARY:Kids Yoga and Storytelling
DESCRIPTION:Kegiatan ini adalah salah satu karya Imelda yang menggabungkan yoga pose ke dalam cerita yang disukai anak-anak. Pose yoganya mudah diikuti dan anak-anak pasti MENYUKAINYA. Karena mereka begitu terlibat dalam bentuk cerita\, anak-anak tidak menyadari betapa mereka berusaha untuk memperkuat dan meregangkan tubuh kecil mereka dan ini memberikan manfaat luar biasa yang mereka dapatkan pada sistem sensorik mereka.
URL:https://www.colouryoga.com/id/event/kids-yoga-and-storytelling/
LOCATION:Colour Yoga studio at Menteng Central\, Jl. HOS Cokroaminoto 78-80\, Menteng Central\, Jakarta\, DKI Jakarta\, 10310\, Indonesia
CATEGORIES:Special Class
ATTACH;FMTTYPE=image/jpeg:https://d2z7ywq0tfs1af.cloudfront.net/static/m/kidsyogaandstorytelling.jpg
ORGANIZER;CN="Colour Yoga":MAILTO:info@colouryoga.com
END:VEVENT
END:VCALENDAR