BEGIN:VCALENDAR
VERSION:2.0
PRODID:-//Colour Yoga - ECPv6.6.3//NONSGML v1.0//EN
CALSCALE:GREGORIAN
METHOD:PUBLISH
X-WR-CALNAME:Colour Yoga
X-ORIGINAL-URL:https://www.colouryoga.com/id
X-WR-CALDESC:Events for Colour Yoga
REFRESH-INTERVAL;VALUE=DURATION:PT1H
X-Robots-Tag:noindex
X-PUBLISHED-TTL:PT1H
BEGIN:VTIMEZONE
TZID:Asia/Krasnoyarsk
BEGIN:STANDARD
TZOFFSETFROM:+0700
TZOFFSETTO:+0700
TZNAME:+07
DTSTART:20240101T000000
END:STANDARD
END:VTIMEZONE
BEGIN:VEVENT
DTSTART;TZID=Asia/Krasnoyarsk:20240311T110000
DTEND;TZID=Asia/Krasnoyarsk:20240311T120000
DTSTAMP:20260422T011028
CREATED:20240304T085049Z
LAST-MODIFIED:20240304T090648Z
UID:7572-1710154800-1710158400@www.colouryoga.com
SUMMARY:Sound Healing
DESCRIPTION:Mari berangkat dalam perjalanan harmoni batin dan penyegaran dengan Yoga Sound Healing yang dipimpin oleh Shierilla Pritha Eliza. Sebagai Sound Healer bersertifikasi dan pendiri visioner Bodhiverse Indonesia\, Shierilla menyuntikkan keahlian dan passion-nya ke dalam setiap sesi\, membimbing peserta menuju keadaan ketenangan dan penemuan diri yang mendalam. \nDalam kelas unik ini\, peserta akan merendam diri dalam dunia suara yang mempesona\, mengalami kekuatan transformatif dari getaran Singing Bowl. Di tengah suasana yang tenang\, Shierilla mengatur atmosfer di mana peserta dapat sepenuhnya merangkul keindahan momen-momen sunyi\, membiarkan resonansi mangkuk memberikan getaran penyembuhan melalui tubuh\, pikiran\, dan jiwa. \nSetiap sesi dirancang dengan cermat untuk mengundang relaksasi yang mendalam\, melepaskan ketegangan\, dan mempromosikan kesejahteraan holistik. Melalui posisi yoga yang lembut\, teknik pernapasan sadar\, dan resonansi terapeutik suara\, peserta diundang untuk melakukan perjalanan ke dalam\, membudidayakan rasa kedamaian dan penyegaran batin yang mendalam. \nBergabunglah dengan Shierilla Pritha Eliza di ruang suci Yoga Sound Healing\, di mana simfoni Singing Bowl memberikan getaran yang berpadu dengan irama\, mengundang Anda untuk menemukan kedamaian tak terbatas.
URL:https://www.colouryoga.com/id/event/sound-healing/
LOCATION:Colour Yoga studio at Menteng Central\, Jl. HOS Cokroaminoto 78-80\, Menteng Central\, Jakarta\, DKI Jakarta\, 10310\, Indonesia
CATEGORIES:Healing,Special Class
ATTACH;FMTTYPE=image/jpeg:https://d2z7ywq0tfs1af.cloudfront.net/static/m/soundhealing.jpg
ORGANIZER;CN="Colour Yoga":MAILTO:info@colouryoga.com
END:VEVENT
END:VCALENDAR