BEGIN:VCALENDAR
VERSION:2.0
PRODID:-//Colour Yoga - ECPv6.6.3//NONSGML v1.0//EN
CALSCALE:GREGORIAN
METHOD:PUBLISH
X-WR-CALNAME:Colour Yoga
X-ORIGINAL-URL:https://www.colouryoga.com/id
X-WR-CALDESC:Events for Colour Yoga
REFRESH-INTERVAL;VALUE=DURATION:PT1H
X-Robots-Tag:noindex
X-PUBLISHED-TTL:PT1H
BEGIN:VTIMEZONE
TZID:Asia/Jakarta
BEGIN:STANDARD
TZOFFSETFROM:+0700
TZOFFSETTO:+0700
TZNAME:WIB
DTSTART:20220101T000000
END:STANDARD
END:VTIMEZONE
BEGIN:VEVENT
DTSTART;TZID=Asia/Jakarta:20220424T163000
DTEND;TZID=Asia/Jakarta:20220424T173000
DTSTAMP:20260422T022638
CREATED:20220414T075507Z
LAST-MODIFIED:20220414T083646Z
UID:5569-1650817800-1650821400@www.colouryoga.com
SUMMARY:Yoga on Wheel Buburit
DESCRIPTION:Sambil menunggu buka puasa\, mari kita beryoga menggunakan wheel biar latihan lebih afdol. Yoga on wheel memberikan sensasi stretching yang maksimal\, meningkatkan fleksibilitas dan mengurangi tension. Buat pemula sangat membantu dalam melakukan beberapa gerakan supaya lebih fleksibel. Buat praktisi yoga reguler\, sangat membantu dalam meningkatkan level dalam suatu gerakan yoga. Tunggu apalagi? Ayo daftar hanya Rp 100ribu saja sudah termasuk takjil. \nTempat sangat terbatas!
URL:https://www.colouryoga.com/id/event/yoga-on-wheel-buburit/
LOCATION:Colour Yoga studio at Menteng Central\, Jl. HOS Cokroaminoto 78-80\, Menteng Central\, Jakarta\, DKI Jakarta\, 10310\, Indonesia
CATEGORIES:Special Class
ATTACH;FMTTYPE=image/jpeg:https://d2z7ywq0tfs1af.cloudfront.net/static/m/yoga-wheel.jpg
ORGANIZER;CN="Colour Yoga":MAILTO:info@colouryoga.com
END:VEVENT
END:VCALENDAR