BEGIN:VCALENDAR
VERSION:2.0
PRODID:-//Colour Yoga - ECPv6.6.3//NONSGML v1.0//EN
CALSCALE:GREGORIAN
METHOD:PUBLISH
X-WR-CALNAME:Colour Yoga
X-ORIGINAL-URL:https://www.colouryoga.com/ja
X-WR-CALDESC:Events for Colour Yoga
REFRESH-INTERVAL;VALUE=DURATION:PT1H
X-Robots-Tag:noindex
X-PUBLISHED-TTL:PT1H
BEGIN:VTIMEZONE
TZID:Asia/Jakarta
BEGIN:STANDARD
TZOFFSETFROM:+0700
TZOFFSETTO:+0700
TZNAME:WIB
DTSTART:20250101T000000
END:STANDARD
END:VTIMEZONE
BEGIN:VEVENT
DTSTART;TZID=Asia/Jakarta:20250115T183000
DTEND;TZID=Asia/Jakarta:20250115T193000
DTSTAMP:20260421T234759
CREATED:20250107T074812Z
LAST-MODIFIED:20250107T115955Z
UID:8487-1736965800-1736969400@www.colouryoga.com
SUMMARY:Beginner Iyengar
DESCRIPTION:Iyengar yoga goes beyond the physical discipline\, it is an art\, a science and a philosophy that focuses on precision\, timing and use of props. Regular practice of Iyengar yoga enhances the capabilities of the body\, mind and emotions.
URL:https://www.colouryoga.com/ja/event/general-iyengar/
LOCATION:Colour Yoga studio at Menteng Central\, Jl. HOS Cokroaminoto 78-80\, Menteng Central\, Jakarta\, DKI Jakarta\, 10310\, Indonesia
CATEGORIES:Trial
ATTACH;FMTTYPE=image/jpeg:https://d2z7ywq0tfs1af.cloudfront.net/static/m/general-iyengar.jpg
ORGANIZER;CN="Colour Yoga":MAILTO:info@colouryoga.com
END:VEVENT
END:VCALENDAR