BEGIN:VCALENDAR
VERSION:2.0
PRODID:-//Colour Yoga - ECPv6.6.3//NONSGML v1.0//EN
CALSCALE:GREGORIAN
METHOD:PUBLISH
X-WR-CALNAME:Colour Yoga
X-ORIGINAL-URL:https://www.colouryoga.com/ja
X-WR-CALDESC:Events for Colour Yoga
REFRESH-INTERVAL;VALUE=DURATION:PT1H
X-Robots-Tag:noindex
X-PUBLISHED-TTL:PT1H
BEGIN:VTIMEZONE
TZID:Asia/Jakarta
BEGIN:STANDARD
TZOFFSETFROM:+0700
TZOFFSETTO:+0700
TZNAME:WIB
DTSTART:20250101T000000
END:STANDARD
END:VTIMEZONE
BEGIN:VEVENT
DTSTART;TZID=Asia/Jakarta:20250112T110000
DTEND;TZID=Asia/Jakarta:20250112T235000
DTSTAMP:20260421T234815
CREATED:20250102T053607Z
LAST-MODIFIED:20250102T124221Z
UID:8426-1736679600-1736725800@www.colouryoga.com
SUMMARY:Kids Swing
DESCRIPTION:お子さまにスイングヨガの魔法を体験させましょう！楽しく魅力的なこのアクティビティは、集中力を高め、筋力を鍛え、運動計画能力を向上させ、自信を育むのに役立ちます。そして何より、楽しみながら成長できます。7歳から13歳のお子さまに最適で、スイングヨガは楽しくサポート的な環境で心身の成長を促します。
URL:https://www.colouryoga.com/ja/event/kids-swing/
LOCATION:Colour Yoga studio at Menteng Central\, Jl. HOS Cokroaminoto 78-80\, Menteng Central\, Jakarta\, DKI Jakarta\, 10310\, Indonesia
CATEGORIES:Free Trials
ATTACH;FMTTYPE=image/jpeg:https://d2z7ywq0tfs1af.cloudfront.net/static/m/kids-swing-banner.jpg
ORGANIZER;CN="Colour Yoga":MAILTO:info@colouryoga.com
END:VEVENT
END:VCALENDAR