BEGIN:VCALENDAR
VERSION:2.0
PRODID:-//Colour Yoga - ECPv6.6.3//NONSGML v1.0//EN
CALSCALE:GREGORIAN
METHOD:PUBLISH
X-WR-CALNAME:Colour Yoga
X-ORIGINAL-URL:https://www.colouryoga.com/ja
X-WR-CALDESC:Events for Colour Yoga
REFRESH-INTERVAL;VALUE=DURATION:PT1H
X-Robots-Tag:noindex
X-PUBLISHED-TTL:PT1H
BEGIN:VTIMEZONE
TZID:Asia/Jakarta
BEGIN:STANDARD
TZOFFSETFROM:+0700
TZOFFSETTO:+0700
TZNAME:WIB
DTSTART:20220101T000000
END:STANDARD
END:VTIMEZONE
BEGIN:VEVENT
DTSTART;TZID=Asia/Jakarta:20220327T180000
DTEND;TZID=Asia/Jakarta:20220327T201500
DTSTAMP:20260422T023452
CREATED:20220322T123255Z
LAST-MODIFIED:20220323T010059Z
UID:5481-1648404000-1648412100@www.colouryoga.com
SUMMARY:Udana Yoga Chakra Flow & Sound Healing
DESCRIPTION:Udana Yoga Chakra Flow with Putu Dwijendra and Chakra Sound Healing with sound healer Anjasmara invites you to explore the ways in which to find peace and ease in our mind\, body and space. \nSession One: Chakra Flow 6:00 - 7:00pm \nSession Two: Chakra Sound Healing 7:15 - 8:15pm \nSpace is limited. Bring your own mat and tumbler.
URL:https://www.colouryoga.com/ja/event/udana-yoga-chakra-flow-sound-healing/
LOCATION:Colour Yoga studio at Menteng Central\, Jl. HOS Cokroaminoto 78-80\, Menteng Central\, Jakarta\, DKI Jakarta\, 10310\, Indonesia
CATEGORIES:Healing,Special Class
ATTACH;FMTTYPE=image/jpeg:https://d2z7ywq0tfs1af.cloudfront.net/static/m/Udana-Putu-Anjasmara.jpg
ORGANIZER;CN="Colour Yoga":MAILTO:info@colouryoga.com
END:VEVENT
END:VCALENDAR