BEGIN:VCALENDAR
VERSION:2.0
PRODID:-//Colour Yoga - ECPv6.6.3//NONSGML v1.0//EN
CALSCALE:GREGORIAN
METHOD:PUBLISH
X-WR-CALNAME:Colour Yoga
X-ORIGINAL-URL:https://www.colouryoga.com/ja
X-WR-CALDESC:Events for Colour Yoga
REFRESH-INTERVAL;VALUE=DURATION:PT1H
X-Robots-Tag:noindex
X-PUBLISHED-TTL:PT1H
BEGIN:VTIMEZONE
TZID:Asia/Jakarta
BEGIN:STANDARD
TZOFFSETFROM:+0700
TZOFFSETTO:+0700
TZNAME:WIB
DTSTART:20250101T000000
END:STANDARD
END:VTIMEZONE
BEGIN:VEVENT
DTSTART;TZID=Asia/Jakarta:20250107T193000
DTEND;TZID=Asia/Jakarta:20250107T203000
DTSTAMP:20260421T235218
CREATED:20250103T063214Z
LAST-MODIFIED:20250103T063214Z
UID:8435-1736278200-1736281800@www.colouryoga.com
SUMMARY:Yoga Therapy for Scoliosis
DESCRIPTION:ヨガを定期的に実践することで、患者は姿勢の改善、柔軟性の向上、腰痛の軽減、アライメントの改善を実感できます。ヨガは体の弱い側を強化し、脊柱の湾曲を改善し、不快感を軽減するのに役立ちます。さらに、ヨガは体のリラクゼーション、可動域、対称性を高めるのに役立ち、これらは問題を効果的に管理するために不可欠です。ヨガを総合的アプローチの一部として取り入れることは、脊柱側弯症患者の生活の質の向上に大きく貢献します。
URL:https://www.colouryoga.com/ja/event/yoga-therapy-for-scoliosis/
LOCATION:Colour Yoga studio at Menteng Central\, Jl. HOS Cokroaminoto 78-80\, Menteng Central\, Jakarta\, DKI Jakarta\, 10310\, Indonesia
CATEGORIES:Free Trials
ATTACH;FMTTYPE=image/jpeg:https://d2z7ywq0tfs1af.cloudfront.net/static/m/Yoga-Therapy-for-Scoliosis.jpg
ORGANIZER;CN="Colour Yoga":MAILTO:info@colouryoga.com
END:VEVENT
END:VCALENDAR