BEGIN:VCALENDAR
VERSION:2.0
PRODID:-//Colour Yoga - ECPv6.6.3//NONSGML v1.0//EN
CALSCALE:GREGORIAN
METHOD:PUBLISH
X-WR-CALNAME:Colour Yoga
X-ORIGINAL-URL:https://www.colouryoga.com
X-WR-CALDESC:Events for Colour Yoga
REFRESH-INTERVAL;VALUE=DURATION:PT1H
X-Robots-Tag:noindex
X-PUBLISHED-TTL:PT1H
BEGIN:VTIMEZONE
TZID:Asia/Krasnoyarsk
BEGIN:STANDARD
TZOFFSETFROM:+0700
TZOFFSETTO:+0700
TZNAME:+07
DTSTART:20240101T000000
END:STANDARD
TZID:Asia/Jakarta
BEGIN:STANDARD
TZOFFSETFROM:+0700
TZOFFSETTO:+0700
TZNAME:WIB
DTSTART:20220101T000000
END:STANDARD
END:VTIMEZONE
BEGIN:VEVENT
DTSTART;TZID=Asia/Krasnoyarsk:20240204T160000
DTEND;TZID=Asia/Krasnoyarsk:20240204T173000
DTSTAMP:20260422T011439
CREATED:20240202T024923Z
LAST-MODIFIED:20240202T033901Z
UID:10000023-1707062400-1707067800@www.colouryoga.com
SUMMARY:Breathwork and Sound Healing Meditation
DESCRIPTION:Join us for a special class "Breathwork and Sound Healing Meditation" led by the renowned teacher\, Ilanda Kusuma. Delve into the transformative power of breath\, immerse yourself in the healing vibrations of sound\, and explore the depths of meditation.
URL:https://www.colouryoga.com/event/breathwork-and-sound-healing-meditation/
LOCATION:Colour Yoga studio at Menteng Central\, Jl. HOS Cokroaminoto 78-80\, Menteng Central\, Jakarta\, DKI Jakarta\, 10310\, Indonesia
CATEGORIES:Healing,Special Class
ATTACH;FMTTYPE=image/jpeg:https://d2z7ywq0tfs1af.cloudfront.net/static/m/ilanda-event.jpg
ORGANIZER;CN="Colour Yoga":MAILTO:info@colouryoga.com
END:VEVENT
BEGIN:VEVENT
DTSTART;TZID=Asia/Jakarta:20220925T150000
DTEND;TZID=Asia/Jakarta:20220925T163000
DTSTAMP:20260422T011439
CREATED:20220918T025159Z
LAST-MODIFIED:20240111T144928Z
UID:10000022-1664118000-1664123400@www.colouryoga.com
SUMMARY:Gentle Somatic Yoga
DESCRIPTION:The most effective Back pain relieve with simple everyday Somatic Movement.
URL:https://www.colouryoga.com/event/gentle-somatic-yoga/
LOCATION:Colour Yoga studio at Menteng Central\, Jl. HOS Cokroaminoto 78-80\, Menteng Central\, Jakarta\, DKI Jakarta\, 10310\, Indonesia
CATEGORIES:Special Class
ATTACH;FMTTYPE=image/jpeg:https://d2z7ywq0tfs1af.cloudfront.net/static/m/gsy-sc.jpg
ORGANIZER;CN="Colour Yoga":MAILTO:info@colouryoga.com
END:VEVENT
BEGIN:VEVENT
DTSTART;TZID=Asia/Jakarta:20220817T160000
DTEND;TZID=Asia/Jakarta:20220817T170000
DTSTAMP:20260422T011439
CREATED:20220810T083901Z
LAST-MODIFIED:20220810T084311Z
UID:10000021-1660752000-1660755600@www.colouryoga.com
SUMMARY:Stretch and Flow
DESCRIPTION:Stretch and Flow Edisi Merah Putih with Ricca Agnes Xienna. \nDresscode: Red and White.
URL:https://www.colouryoga.com/event/stretch-and-flow/
LOCATION:Colour Yoga studio at Menteng Central\, Jl. HOS Cokroaminoto 78-80\, Menteng Central\, Jakarta\, DKI Jakarta\, 10310\, Indonesia
CATEGORIES:Special Class
ATTACH;FMTTYPE=image/jpeg:https://d2z7ywq0tfs1af.cloudfront.net/static/m/Stretch-and-Flow.jpeg
ORGANIZER;CN="Colour Yoga":MAILTO:info@colouryoga.com
END:VEVENT
BEGIN:VEVENT
DTSTART;TZID=Asia/Jakarta:20220817T103000
DTEND;TZID=Asia/Jakarta:20220817T113000
DTSTAMP:20260422T011439
CREATED:20220810T083108Z
LAST-MODIFIED:20220810T122819Z
UID:10000020-1660732200-1660735800@www.colouryoga.com
SUMMARY:Kids Yoga Warrior
DESCRIPTION:Kids Yoga Special Class: Be a Warrior\, Not a Worrier. With Ms. Imelda. \nJoin kids yoga class with poses that commemorate the Indonesia independence day and represent the intentional principles of freedom\, peace\, love\, community\, mindful living\, and acknowledging those warriors who came before us. \nIncludes Lunch.
URL:https://www.colouryoga.com/event/kids-yoga-warrior/
LOCATION:Colour Yoga studio at Menteng Central\, Jl. HOS Cokroaminoto 78-80\, Menteng Central\, Jakarta\, DKI Jakarta\, 10310\, Indonesia
CATEGORIES:Special Class
ATTACH;FMTTYPE=image/jpeg:https://d2z7ywq0tfs1af.cloudfront.net/static/m/kidsyogawarrior.jpeg
ORGANIZER;CN="Colour Yoga":MAILTO:info@colouryoga.com
END:VEVENT
BEGIN:VEVENT
DTSTART;TZID=Asia/Jakarta:20220601T160000
DTEND;TZID=Asia/Jakarta:20220601T170000
DTSTAMP:20260422T011439
CREATED:20220527T100642Z
LAST-MODIFIED:20220530T070610Z
UID:10000019-1654099200-1654102800@www.colouryoga.com
SUMMARY:Yoga for Stronger Immune System
DESCRIPTION:How yoga can boost your immunity naturally? \nYoga has been used for centuries in keeping the body functioning fit and fine\, holistically. However\, the benefits of yoga are not just limited to stress relief and mental wellness. \nIf practised properly\, yoga can recharge your body\, get rid of the toxins\, negative energy and keep your vital organs functioning well. It can help you build resilience both inside and out. Certain yoga positions can help support\, balance and boost the immune system. It can also help fight oxidative stress which poses a risk to the healthy cells. If done regularly\, yoga reduces stress systemically in the body\, which in turn\, cuts down inflammation and degeneration.
URL:https://www.colouryoga.com/event/yoga-for-stronger-immune-system/
LOCATION:Colour Yoga studio at Menteng Central\, Jl. HOS Cokroaminoto 78-80\, Menteng Central\, Jakarta\, DKI Jakarta\, 10310\, Indonesia
CATEGORIES:Special Class
ATTACH;FMTTYPE=image/jpeg:https://d2z7ywq0tfs1af.cloudfront.net/static/m/immunesys.jpg
ORGANIZER;CN="Colour Yoga":MAILTO:info@colouryoga.com
END:VEVENT
BEGIN:VEVENT
DTSTART;TZID=Asia/Jakarta:20220601T103000
DTEND;TZID=Asia/Jakarta:20220601T120000
DTSTAMP:20260422T011439
CREATED:20220526T102611Z
LAST-MODIFIED:20220601T034407Z
UID:10000018-1654079400-1654084800@www.colouryoga.com
SUMMARY:Kids Yoga and Storytelling
DESCRIPTION:Kegiatan ini adalah salah satu karya Imelda yang menggabungkan yoga pose ke dalam cerita yang disukai anak-anak. Pose yoganya mudah diikuti dan anak-anak pasti MENYUKAINYA. Karena mereka begitu terlibat dalam bentuk cerita\, anak-anak tidak menyadari betapa mereka berusaha untuk memperkuat dan meregangkan tubuh kecil mereka dan ini memberikan manfaat luar biasa yang mereka dapatkan pada sistem sensorik mereka.
URL:https://www.colouryoga.com/event/kids-yoga-and-storytelling/
LOCATION:Colour Yoga studio at Menteng Central\, Jl. HOS Cokroaminoto 78-80\, Menteng Central\, Jakarta\, DKI Jakarta\, 10310\, Indonesia
CATEGORIES:Special Class
ATTACH;FMTTYPE=image/jpeg:https://d2z7ywq0tfs1af.cloudfront.net/static/m/kidsyogaandstorytelling.jpg
ORGANIZER;CN="Colour Yoga":MAILTO:info@colouryoga.com
END:VEVENT
BEGIN:VEVENT
DTSTART;TZID=Asia/Jakarta:20220529T163000
DTEND;TZID=Asia/Jakarta:20220529T173000
DTSTAMP:20260422T011439
CREATED:20220523T071154Z
LAST-MODIFIED:20220523T071706Z
UID:10000016-1653841800-1653845400@www.colouryoga.com
SUMMARY:[:en]Yoga on Wheel[:]
DESCRIPTION:Lya Loeb special class of a yoga wheel with traditional asanas. Designed to open up areas that are typically tight due to modern-day living – the yoga wheel expands the chest and shoulders\, stretches the hip flexors and rejuvenates the spine. Practising with the yoga wheel creates a unique overall opening experience. Some pranayama and meditation may be included. \nBring your own mat and wheel. \nVenua area: Main Atrium Lt. UG Plaza Semanggi
URL:https://www.colouryoga.com/event/yoga-on-wheel/
LOCATION:Colour Yoga studio at Menteng Central\, Jl. HOS Cokroaminoto 78-80\, Menteng Central\, Jakarta\, DKI Jakarta\, 10310\, Indonesia
CATEGORIES:Special Class
ATTACH;FMTTYPE=image/jpeg:https://d2z7ywq0tfs1af.cloudfront.net/static/m/yogaonwheel.jpg
ORGANIZER;CN="Colour Yoga":MAILTO:info@colouryoga.com
END:VEVENT
BEGIN:VEVENT
DTSTART;TZID=Asia/Jakarta:20220526T160000
DTEND;TZID=Asia/Jakarta:20220526T170000
DTSTAMP:20260422T011439
CREATED:20220523T081912Z
LAST-MODIFIED:20220526T080936Z
UID:10000017-1653580800-1653584400@www.colouryoga.com
SUMMARY:Yin Yoga and Reiki Healing
DESCRIPTION:Experience a true transformation during our Yin Yoga & Reiki Healing! Join Deece Dewayani and restore and support the energetic and physical balance and flexibility of your body\, mind and Soul!
URL:https://www.colouryoga.com/event/yin-yoga-and-reiki-healing-2/
LOCATION:Colour Yoga studio at Menteng Central\, Jl. HOS Cokroaminoto 78-80\, Menteng Central\, Jakarta\, DKI Jakarta\, 10310\, Indonesia
CATEGORIES:Special Class
ATTACH;FMTTYPE=image/jpeg:https://d2z7ywq0tfs1af.cloudfront.net/static/m/yinyoga-may27-2022.jpg
ORGANIZER;CN="Colour Yoga":MAILTO:info@colouryoga.com
END:VEVENT
BEGIN:VEVENT
DTSTART;TZID=Asia/Jakarta:20220516T160000
DTEND;TZID=Asia/Jakarta:20220516T170000
DTSTAMP:20260422T011439
CREATED:20220512T080031Z
LAST-MODIFIED:20220515T145903Z
UID:10000015-1652716800-1652720400@www.colouryoga.com
SUMMARY:Yin Yoga and Reiki Healing
DESCRIPTION:Gabungan antara gerakan Yin yoga yang bersifat pasif dan lambat dengan latihan energi Chi sehingga dapat mengalir lancar untuk menimbulkan keseimbangan dan ketenangan di dalam tubuh\, pikiran dan jiwa sebagai suatu kesatuan.
URL:https://www.colouryoga.com/event/yin-yoga-and-reiki-healing/
LOCATION:Colour Yoga studio at Menteng Central\, Jl. HOS Cokroaminoto 78-80\, Menteng Central\, Jakarta\, DKI Jakarta\, 10310\, Indonesia
CATEGORIES:Special Class
ATTACH;FMTTYPE=image/jpeg:https://d2z7ywq0tfs1af.cloudfront.net/static/m/deece-event.jpg
ORGANIZER;CN="Colour Yoga":MAILTO:info@colouryoga.com
END:VEVENT
BEGIN:VEVENT
DTSTART;TZID=Asia/Jakarta:20220424T163000
DTEND;TZID=Asia/Jakarta:20220424T173000
DTSTAMP:20260422T011439
CREATED:20220414T075507Z
LAST-MODIFIED:20220414T083646Z
UID:10000014-1650817800-1650821400@www.colouryoga.com
SUMMARY:Yoga on Wheel Buburit
DESCRIPTION:Sambil menunggu buka puasa\, mari kita beryoga menggunakan wheel biar latihan lebih afdol. Yoga on wheel memberikan sensasi stretching yang maksimal\, meningkatkan fleksibilitas dan mengurangi tension. Buat pemula sangat membantu dalam melakukan beberapa gerakan supaya lebih fleksibel. Buat praktisi yoga reguler\, sangat membantu dalam meningkatkan level dalam suatu gerakan yoga. Tunggu apalagi? Ayo daftar hanya Rp 100ribu saja sudah termasuk takjil. \nTempat sangat terbatas!
URL:https://www.colouryoga.com/event/yoga-on-wheel-buburit/
LOCATION:Colour Yoga studio at Menteng Central\, Jl. HOS Cokroaminoto 78-80\, Menteng Central\, Jakarta\, DKI Jakarta\, 10310\, Indonesia
CATEGORIES:Special Class
ATTACH;FMTTYPE=image/jpeg:https://d2z7ywq0tfs1af.cloudfront.net/static/m/yoga-wheel.jpg
ORGANIZER;CN="Colour Yoga":MAILTO:info@colouryoga.com
END:VEVENT
BEGIN:VEVENT
DTSTART;TZID=Asia/Jakarta:20220327T180000
DTEND;TZID=Asia/Jakarta:20220327T201500
DTSTAMP:20260422T011439
CREATED:20220322T123255Z
LAST-MODIFIED:20220323T010059Z
UID:10000013-1648404000-1648412100@www.colouryoga.com
SUMMARY:Udana Yoga Chakra Flow & Sound Healing
DESCRIPTION:Udana Yoga Chakra Flow with Putu Dwijendra and Chakra Sound Healing with sound healer Anjasmara invites you to explore the ways in which to find peace and ease in our mind\, body and space. \nSession One: Chakra Flow 6:00 - 7:00pm \nSession Two: Chakra Sound Healing 7:15 - 8:15pm \nSpace is limited. Bring your own mat and tumbler.
URL:https://www.colouryoga.com/event/udana-yoga-chakra-flow-sound-healing/
LOCATION:Colour Yoga studio at Menteng Central\, Jl. HOS Cokroaminoto 78-80\, Menteng Central\, Jakarta\, DKI Jakarta\, 10310\, Indonesia
CATEGORIES:Healing,Special Class
ATTACH;FMTTYPE=image/jpeg:https://d2z7ywq0tfs1af.cloudfront.net/static/m/Udana-Putu-Anjasmara.jpg
ORGANIZER;CN="Colour Yoga":MAILTO:info@colouryoga.com
END:VEVENT
BEGIN:VEVENT
DTSTART;VALUE=DATE:20220324
DTEND;VALUE=DATE:20220328
DTSTAMP:20260422T011439
CREATED:20220121T000414Z
LAST-MODIFIED:20220308T121404Z
UID:10000012-1648080000-1648425599@www.colouryoga.com
SUMMARY:[:en]Lower Back Pain and Scoliosis workshop with Putu Dwijendra[:id]Lower Back Pain dan Scoliosis workshop bersama Putu Dwijendra[:ja]Lower Back Pain and Scoliosis workshop with Putu Dwijendra[:]
DESCRIPTION:Experience the most awaited training workshop with Putu Dwijendra @colouryoga. \nOur spinal curves are there for a reason – they help balance weight distribution throughout the spine. However\, in some people\, the curves are either too much or too little. Yoga helps with balancing these spinal curves for optimal function in the body. With the aging body comes gravitational forces that can affect our physical structure\, and repetitive use samskaras that can negatively affect our posture. For many of us\, we can see firsthand a wide variety of spinal curvature issues and conditions in our Gentle\, Senior and Chair Yoga student population. Understanding how Yoga can help students with these curvature issues practice efficiently and safely to achieve pain relief often associated with spinal imbalances is empowering for us as Yoga Teachers. \nThis workshop will take an in-depth look at spinal kyphosis and lordosis\, flattened thoracic curve\, lower back pain as well as scoliosis. Putu Dwijendra will cover key aspects of spinal anatomy and how Yoga can specifically aid in balancing these curves. \nTimetable \n24-25 March 2022: Lower Back Pain\n26-27 March 2022: Scoliosis \nTickets \nEnd of Early Bird is 20 March\, 2022. \nNote: All participants will get certificate\, module\, lunch and snack. \nAbout Putu Dwijendra \nPutu Dwijendra is a founder and teacher of Udana Yoga\, The Bali Yoga Academy. Putu Dwijendra began teaching yoga after receiving international certification from Sivananda Yoga Vedanta Ashram in Nevyar Dham\, Kerala\, South India in 2006. He became a member of the Yoga Alliance and built a registered yoga school accredited under the name Udana Yoga\, The Bali Yoga Academy. He believes that he learns to teach and teach to study. For him yoga is a journey to self-understanding rather than just posing. During his class\, he will guide you on how to align your breath with your posture and connect with your mind so that you are always connected to the present. Flowing energy to every part of your body is something he likes you to do.
URL:https://www.colouryoga.com/event/lower-back-pain-and-scoliosis-workshop-with-putu-dwijendra/
LOCATION:Colour Yoga studio at Menteng Central\, Jl. HOS Cokroaminoto 78-80\, Menteng Central\, Jakarta\, DKI Jakarta\, 10310\, Indonesia
CATEGORIES:Healing,Workshop
ATTACH;FMTTYPE=image/jpeg:https://d2z7ywq0tfs1af.cloudfront.net/static/m/putu-feature-image.jpg
ORGANIZER;CN="Colour Yoga":MAILTO:info@colouryoga.com
END:VEVENT
END:VCALENDAR